Felt | Verdi |
AlreadyApplied | True |
Aperture | 8.0 |
ApertureValue | 8.0 |
ApproximateFocusDistance | 4294967295 |
AutoLateralCA | 0 |
AutoWhiteVersion | 134348800 |
BitsPerSample | 8 |
Blacks2012 | 0 |
BlueHue | 0 |
BlueSaturation | 0 |
CameraProfile | Embedded |
CircleOfConfusion | 0.041 mm |
Clarity2012 | 0 |
ColorComponents | 3 |
ColorNoiseReduction | 0 |
ColorSpace (1) | Uncalibrated |
ColorSpace | sRGB |
ColorTransform | YCbCr |
Contrast2012 | +15 |
ConvertToGrayscale | False |
CreateDate | 2017:01:13 09:11:00 |
CreatorTool | Adobe Photoshop Lightroom 6.7 (Macintosh) |
CustomRendered | Normal |
DateCreated (1) | 2017:01:13 |
DateCreated | 2017:01:13 09:10:56.022 |
DateTimeOriginal | 2017:01:13 09:11:00 |
DefringeGreenAmount | 0 |
DefringeGreenHueHi | 60 |
DefringeGreenHueLo | 40 |
DefringePurpleAmount | 0 |
DefringePurpleHueHi | 70 |
DefringePurpleHueLo | 30 |
Dehaze | 0 |
DOF | inf (1.47 m - inf) |
Exposure2012 | 0.00 |
ExposureCompensation | 0 |
ExposureMode | Manual |
ExposureProgram | Manual |
ExposureTime | 1/50 |
Firmware | 1.1.2 |
Flash | Off, Did not fire |
FlashCompensation | 0 |
FNumber | 8.0 |
FocalLength | 22.0 mm |
FocalLength35efl | 22.0 mm (35 mm equivalent: 16.1 mm) |
Format | image/jpeg |
FOV | 96.5 deg |
GradientBasedCorrActive | true |
GradientBasedCorrAmount | 1.000000 |
GradientBasedCorrBrightness | 0.000000 |
GradientBasedCorrClarity2012 | 0.000000 |
GradientBasedCorrContrast2012 | 0.000000 |
GradientBasedCorrDefringe | 0.000000 |
GradientBasedCorrExposure2012 (1) | -0.093023 |
GradientBasedCorrExposure2012 (2) | 0.062682 |
GradientBasedCorrExposure2012 | 0.030342 |
GradientBasedCorrHighlights2012 | -0.000908 |
GradientBasedCorrHue | 0.000000 |
GradientBasedCorrLocalBlacks2012 | 0.000000 |
GradientBasedCorrLocalDehaze | 0.000000 |
GradientBasedCorrLocalWhites2012 | 0.004179 |
GradientBasedCorrLuminanceNoise | 0.000000 |
GradientBasedCorrMaskFullX (1) | 0.518825 |
GradientBasedCorrMaskFullX (2) | 0.450943 |
GradientBasedCorrMaskFullX | 0.535750 |
GradientBasedCorrMaskFullY (1) | 0.219592 |
GradientBasedCorrMaskFullY (2) | 0.709012 |
GradientBasedCorrMaskFullY | 0.697991 |
GradientBasedCorrMaskValue | 1.000000 |
GradientBasedCorrMaskWhat | Mask/Gradient |
GradientBasedCorrMaskZeroX (1) | 0.534295 |
GradientBasedCorrMaskZeroX (2) | 0.440317 |
GradientBasedCorrMaskZeroX | 0.523026 |
GradientBasedCorrMaskZeroY (1) | 0.593264 |
GradientBasedCorrMaskZeroY (2) | 0.413692 |
GradientBasedCorrMaskZeroY | 0.475742 |
GradientBasedCorrMoire | 0.000000 |
GradientBasedCorrSaturation | 0.000000 |
GradientBasedCorrShadows2012 | 0.000000 |
GradientBasedCorrSharpness | 0.000000 |
GradientBasedCorrTemperature (1) | -0.139535 |
GradientBasedCorrTemperature (2) | 0.046512 |
GradientBasedCorrTemperature | -0.012536 |
GradientBasedCorrTint (2) | 0.118732 |
GradientBasedCorrTint | 0.000000 |
GradientBasedCorrWhat | Correction |
GrainAmount | 0 |
GreenHue | 0 |
GreenSaturation | 0 |
HasCrop | False |
HasSettings | True |
Highlights2012 | -20 |
HueAdjustmentAqua | 0 |
HueAdjustmentBlue | 0 |
HueAdjustmentGreen | 0 |
HueAdjustmentMagenta | 0 |
HueAdjustmentOrange | -5 |
HueAdjustmentPurple | +18 |
HueAdjustmentRed | 0 |
HueAdjustmentYellow | -72 |
HyperfocalDistance | 1.47 m |
ImageHeight | 5471 |
ImageNumber | 0 |
ImageSize | 7148x5471 |
ImageWidth | 7148 |
IncrementalTemperature | 0 |
IncrementalTint | 0 |
IsMergedHDR | True |
IsMergedPanorama | True |
ISO | 100 |
LateralChromaticAberrationCorrectionAlreadyApplied | True |
Lens | EF16-35mm f/2.8L III USM |
LensID (1) | 751 |
LensID | Canon EF 16-35mm f/2.8L III USM |
LensInfo (2) | 16 |
LensInfo | 16-35mm f/? |
LensManualDistortionAmount | 0 |
LensModel | EF16-35mm f/2.8L III USM |
LensProfileEnable | 0 |
LensProfileSetup | LensDefaults |
LensSerialNumber | 4510002336 |
LightValue | 11.6 |
LuminanceAdjustmentAqua | 0 |
LuminanceAdjustmentBlue | 0 |
LuminanceAdjustmentGreen | 0 |
LuminanceAdjustmentMagenta | +5 |
LuminanceAdjustmentOrange | +10 |
LuminanceAdjustmentPurple | 0 |
LuminanceAdjustmentRed | 0 |
LuminanceAdjustmentYellow | +19 |
LuminanceSmoothing | 0 |
Make | Canon |
MaxApertureValue | 2.8 |
Megapixels | 39.1 |
MeteringMode | Spot |
Model | Canon EOS-1D X Mark II |
ModifyDate (1) | 2017:01:14 15:57:09+01:00 |
ModifyDate | 2017:01:14 15:57:09 |
PaintCorrectionActive | true |
PaintCorrectionAmount | 1.000000 |
PaintCorrectionBrightness | 0.000000 |
PaintCorrectionClarity2012 | 0.000000 |
PaintCorrectionContrast2012 | 0.000000 |
PaintCorrectionDefringe | 0.000000 |
PaintCorrectionExposure2012 (1) | -0.103016 |
PaintCorrectionExposure2012 | 0.000000 |
PaintCorrectionHighlights2012 (2) | 0.052689 |
PaintCorrectionHighlights2012 | -0.000908 |
PaintCorrectionHue | 0.000000 |
PaintCorrectionLocalBlacks2012 | 0.000000 |
PaintCorrectionLocalDehaze | 0.000000 |
PaintCorrectionLocalWhites2012 | 0.004179 |
PaintCorrectionLuminanceNoise | 0.000000 |
PaintCorrectionMaskCenterWeight | 0.000000 |
PaintCorrectionMaskFlow | 0.639121 |
PaintCorrectionMaskRadius (1) | 0.276285 |
PaintCorrectionMaskRadius (12) | 0.723440 |
PaintCorrectionMaskRadius (14) | 0.467386 |
PaintCorrectionMaskRadius (16) | 0.343922 |
PaintCorrectionMaskRadius (19) | 0.061766 |
PaintCorrectionMaskRadius (20) | 0.031705 |
PaintCorrectionMaskRadius (27) | 0.391697 |
PaintCorrectionMaskRadius (29) | 0.010632 |
PaintCorrectionMaskRadius (43) | 0.010620 |
PaintCorrectionMaskRadius (45) | 0.119408 |
PaintCorrectionMaskRadius (6) | 0.119539 |
PaintCorrectionMaskRadius | 0.053993 |
PaintCorrectionMaskValue | 0.677157 |
PaintCorrectionMaskWhat | Mask/Paint |
PaintCorrectionMoire | 0.000000 |
PaintCorrectionSaturation | 0.000000 |
PaintCorrectionShadows2012 (3) | 0.000000 |
PaintCorrectionShadows2012 | -0.386537 |
PaintCorrectionSharpness | 0.000000 |
PaintCorrectionTemperature (1) | -0.139535 |
PaintCorrectionTemperature (2) | 0.000000 |
PaintCorrectionTemperature (3) | 0.414153 |
PaintCorrectionTemperature | -0.084847 |
PaintCorrectionTint (2) | -0.112009 |
PaintCorrectionTint (3) | -0.257177 |
PaintCorrectionTint | 0.000000 |
PaintCorrectionWhat | Correction |
ParametricDarks | 0 |
ParametricHighlights | 0 |
ParametricHighlightSplit | 75 |
ParametricLights | 0 |
ParametricMidtoneSplit | 50 |
ParametricShadows | 0 |
ParametricShadowSplit | 25 |
PerspectiveAspect | 0 |
PerspectiveHorizontal | 0 |
PerspectiveRotate | 0.0 |
PerspectiveScale | 100 |
PerspectiveUpright | 0 |
PerspectiveVertical | 0 |
PerspectiveX | 0.00 |
PerspectiveY | 0.00 |
PostCropVignetteAmount | 0 |
ProcessVersion | 6.7 |
ProfileDescription | sRGB IEC61966-2.1 |
Rating | 5 |
RecommendedExposureIndex | 100 |
RedHue | 0 |
RedSaturation | 0 |
Saturation | -8 |
SaturationAdjustmentAqua | 0 |
SaturationAdjustmentBlue | 0 |
SaturationAdjustmentGreen | 0 |
SaturationAdjustmentMagenta | 0 |
SaturationAdjustmentOrange | +15 |
SaturationAdjustmentPurple | -9 |
SaturationAdjustmentRed | +12 |
SaturationAdjustmentYellow | +53 |
ScaleFactor35efl | 0.7 |
SceneCaptureType | Standard |
SensitivityType | Recommended Exposure Index |
SerialNumber | 093013000530 |
Shadows2012 | +19 |
ShadowTint | 0 |
SharpenDetail | 25 |
SharpenEdgeMasking | 0 |
SharpenRadius | +1.0 |
Sharpness | 0 |
ShutterSpeed | 1/50 |
ShutterSpeedValue | 1/50 |
Software | Adobe Photoshop Lightroom 6.7 (Macintosh) |
SplitToningBalance | 0 |
SplitToningHighlightHue | 25 |
SplitToningHighlightSaturation | 5 |
SplitToningShadowHue | 0 |
SplitToningShadowSaturation | 0 |
ToneCurve | 0, 0, 255, 255 |
ToneCurveBlue | 0, 0, 255, 255 |
ToneCurveGreen | 0, 0, 255, 255 |
ToneCurveName | Linear |
ToneCurveName2012 | Linear |
ToneCurvePV2012 | 0, 0, 255, 255 |
ToneCurvePV2012Blue | 0, 0, 255, 255 |
ToneCurvePV2012Green | 0, 0, 255, 255 |
ToneCurvePV2012Red | 0, 0, 255, 255 |
ToneCurveRed | 0, 0, 255, 255 |
ToneMapStrength | 0 |
Transformation | Perspective |
Version | 9.7 |
Vibrance | 0 |
VignetteAmount | 0 |
VirtualFocalLength | 0.467431 |
VirtualImageXCenter | 0.481828 |
VirtualImageYCenter | 0.51286 |
WhiteBalance (1) | As Shot |
WhiteBalance | Auto |
Whites2012 | 0 |