Felt | Verdi |
AlreadyApplied | True |
Aperture | 8.0 |
ApertureValue | 8.0 |
Artist | ARILD THINGVOLL |
AutoLateralCA | 1 |
BitsPerSample | 8 |
Blacks2012 | -7 |
BlueHue | 0 |
BlueSaturation | 0 |
BrightnessValue | 5.89 |
By-line | ARILD THINGVOLL |
CameraProfile | Camera MONOCHROME |
CircGradBasedCorrActive | true |
CircGradBasedCorrAmount | 1.000000 |
CircGradBasedCorrBrightness | 0.000000 |
CircGradBasedCorrClarity2012 | 0.000000 |
CircGradBasedCorrContrast2012 | 0.000000 |
CircGradBasedCorrCorrectionRangeMaskColorAmount | 0.500000 |
CircGradBasedCorrCorrectionRangeMaskDepthFeather | 0.500000 |
CircGradBasedCorrCorrectionRangeMaskDepthMax | 1.000000 |
CircGradBasedCorrCorrectionRangeMaskDepthMin | 0.000000 |
CircGradBasedCorrCorrectionRangeMaskLumFeather | 0.500000 |
CircGradBasedCorrCorrectionRangeMaskLumMax | 1.000000 |
CircGradBasedCorrCorrectionRangeMaskLumMin | 0.000000 |
CircGradBasedCorrCorrectionRangeMaskType | 0 |
CircGradBasedCorrCorrectionRangeMaskVersion | +2 |
CircGradBasedCorrDefringe | 0.000000 |
CircGradBasedCorrExposure2012 | 0.182750 |
CircGradBasedCorrHighlights2012 | 0.000000 |
CircGradBasedCorrHue | 0.000000 |
CircGradBasedCorrLocalBlacks2012 | 0.000000 |
CircGradBasedCorrLocalDehaze | 0.000000 |
CircGradBasedCorrLocalWhites2012 | 0.000000 |
CircGradBasedCorrLuminanceNoise | 0.000000 |
CircGradBasedCorrMaskAngle (1) | 0.000000 |
CircGradBasedCorrMaskAngle | -4.699160 |
CircGradBasedCorrMaskBottom (1) | 0.710853 |
CircGradBasedCorrMaskBottom (2) | 0.177045 |
CircGradBasedCorrMaskBottom (3) | 0.193059 |
CircGradBasedCorrMaskBottom (4) | 0.653023 |
CircGradBasedCorrMaskBottom (5) | 0.641079 |
CircGradBasedCorrMaskBottom | 0.628185 |
CircGradBasedCorrMaskFeather | +100 |
CircGradBasedCorrMaskFlipped | true |
CircGradBasedCorrMaskLeft (1) | 0.196323 |
CircGradBasedCorrMaskLeft (2) | 0.431198 |
CircGradBasedCorrMaskLeft (3) | 0.879597 |
CircGradBasedCorrMaskLeft (4) | 0.787664 |
CircGradBasedCorrMaskLeft (5) | 0.639842 |
CircGradBasedCorrMaskLeft | 0.335702 |
CircGradBasedCorrMaskMidpoint | +50 |
CircGradBasedCorrMaskRight (1) | 0.268683 |
CircGradBasedCorrMaskRight (2) | 0.549822 |
CircGradBasedCorrMaskRight (3) | 0.998221 |
CircGradBasedCorrMaskRight (4) | 0.977462 |
CircGradBasedCorrMaskRight (5) | 0.723150 |
CircGradBasedCorrMaskRight | 0.453150 |
CircGradBasedCorrMaskRoundness | 0 |
CircGradBasedCorrMaskTop (1) | 0.381673 |
CircGradBasedCorrMaskTop (2) | -0.002669 |
CircGradBasedCorrMaskTop (3) | 0.013345 |
CircGradBasedCorrMaskTop (4) | 0.473309 |
CircGradBasedCorrMaskTop (5) | 0.467459 |
CircGradBasedCorrMaskTop | 0.526617 |
CircGradBasedCorrMaskValue | 1.000000 |
CircGradBasedCorrMaskVersion | +2 |
CircGradBasedCorrMaskWhat | Mask/CircularGradient |
CircGradBasedCorrMoire | 0.000000 |
CircGradBasedCorrSaturation | 0.000000 |
CircGradBasedCorrShadows2012 | 0.000000 |
CircGradBasedCorrSharpness | 0.000000 |
CircGradBasedCorrTemperature | 0.000000 |
CircGradBasedCorrTint | 0.000000 |
CircGradBasedCorrWhat | Correction |
CircleOfConfusion | 0.020 mm |
Clarity2012 | +29 |
ColorComponents | 3 |
ColorNoiseReduction | 25 |
ColorNoiseReductionDetail | 50 |
ColorNoiseReductionSmoothness | 50 |
ColorSpace | sRGB |
ColorTemperature | 4700 |
ColorTransform | YCbCr |
Contrast2012 | +25 |
ConvertToGrayscale | True |
CreateDate | 2019:03:24 13:51:34 |
Creator | ARILD THINGVOLL |
CreatorTool | Adobe Photoshop Lightroom Classic 8.2 (Windows) |
CropAngle | 0 |
CropBottom | 1 |
CropConstrainToWarp | 0 |
CropLeft | 0.021352 |
CropRight | 1 |
CropTop | 0.037367 |
CustomRendered | Normal |
DateCreated (1) | 2019:03:24 |
DateCreated | 2019:03:24 13:51:34 |
DateTimeOriginal | 2019:03:24 13:51:34 |
Dehaze | 0 |
DistortionCorrectionAlreadyApplied | True |
Exposure2012 | -1.24 |
ExposureCompensation | 0 |
ExposureMode | Manual |
ExposureProgram | Manual |
ExposureTime | 1/125 |
Flash | No Flash |
FNumber | 8.0 |
FocalLength | 115.9 mm |
FocalLength35efl | 115.9 mm (35 mm equivalent: 174.0 mm) |
FocalLengthIn35mmFormat | 174 mm |
Format | image/jpeg |
FOV | 11.8 deg |
GrainAmount | 0 |
GreenHue | 0 |
GreenSaturation | 0 |
HasCrop | True |
HasSettings | True |
Highlights2012 | -96 |
HyperfocalDistance | 83.90 m |
ImageHeight | 787 |
ImageSize | 1200x787 |
ImageWidth | 1200 |
ISO | 500 |
Keywords | 03, 0319, 50-200mm |
LateralChromaticAberrationCorrectionAlreadyApplied | True |
Lens | XF55-200mmF3.5-4.8 R LM OIS |
LensInfo | 55-200mm f/3.5-4.8 |
LensMake | FUJIFILM |
LensManualDistortionAmount | 0 |
LensModel | XF55-200mmF3.5-4.8 R LM OIS |
LensProfileEnable | 0 |
LensProfileSetup | LensDefaults |
LensSerialNumber | 75A11651 |
LightSource | Unknown |
LightValue | 10.6 |
LookName | |
LuminanceSmoothing | 0 |
Make | FUJIFILM |
MaxApertureValue | 3.5 |
Megapixels | 0.944 |
MeteringMode | Multi-segment |
Model | X-T2 |
ModifyDate (1) | 2019:04:01 21:03:09+02:00 |
ModifyDate | 2019:04:01 21:03:09 |
OverrideLookVignette | False |
PaintCorrectionActive | true |
PaintCorrectionAmount | 1.000000 |
PaintCorrectionBrightness | 0.000000 |
PaintCorrectionClarity2012 (9) | 0.053760 |
PaintCorrectionClarity2012 | 0.000000 |
PaintCorrectionContrast2012 (9) | -0.075270 |
PaintCorrectionContrast2012 | 0.000000 |
PaintCorrectionCorrectionRangeMaskColorAmount | 0.500000 |
PaintCorrectionCorrectionRangeMaskDepthFeather | 0.500000 |
PaintCorrectionCorrectionRangeMaskDepthMax | 1.000000 |
PaintCorrectionCorrectionRangeMaskDepthMin | 0.000000 |
PaintCorrectionCorrectionRangeMaskLumFeather | 0.500000 |
PaintCorrectionCorrectionRangeMaskLumMax | 1.000000 |
PaintCorrectionCorrectionRangeMaskLumMin | 0.000000 |
PaintCorrectionCorrectionRangeMaskType | 0 |
PaintCorrectionCorrectionRangeMaskVersion | +2 |
PaintCorrectionDefringe | 0.000000 |
PaintCorrectionExposure2012 (10) | 0.161250 |
PaintCorrectionExposure2012 (11) | 0.096750 |
PaintCorrectionExposure2012 (2) | -0.053750 |
PaintCorrectionExposure2012 (3) | 0.225750 |
PaintCorrectionExposure2012 (6) | 0.000000 |
PaintCorrectionExposure2012 (7) | 0.053750 |
PaintCorrectionExposure2012 (8) | -0.118250 |
PaintCorrectionExposure2012 (9) | 0.032250 |
PaintCorrectionExposure2012 | -0.075250 |
PaintCorrectionHighlights2012 | 0.000000 |
PaintCorrectionHue | 0.000000 |
PaintCorrectionLocalBlacks2012 (5) | -0.096770 |
PaintCorrectionLocalBlacks2012 (6) | -0.139780 |
PaintCorrectionLocalBlacks2012 | 0.000000 |
PaintCorrectionLocalDehaze | 0.000000 |
PaintCorrectionLocalWhites2012 (6) | 0.118280 |
PaintCorrectionLocalWhites2012 | 0.000000 |
PaintCorrectionLuminanceNoise | 0.000000 |
PaintCorrectionMaskCenterWeight | 0.000000 |
PaintCorrectionMaskFlow | 1.000000 |
PaintCorrectionMaskRadius (13) | 0.053296 |
PaintCorrectionMaskRadius (21) | 0.112673 |
PaintCorrectionMaskRadius (27) | 0.128715 |
PaintCorrectionMaskRadius (3) | 0.067422 |
PaintCorrectionMaskRadius (33) | 0.097111 |
PaintCorrectionMaskRadius (38) | 0.046413 |
PaintCorrectionMaskRadius (44) | 0.074665 |
PaintCorrectionMaskRadius (47) | 0.120634 |
PaintCorrectionMaskRadius (50) | 0.039649 |
PaintCorrectionMaskRadius (59) | 0.033005 |
PaintCorrectionMaskRadius (64) | 0.026481 |
PaintCorrectionMaskRadius | 0.060300 |
PaintCorrectionMaskValue | 1.000000 |
PaintCorrectionMaskWhat | Mask/Paint |
PaintCorrectionMoire | 0.000000 |
PaintCorrectionSaturation | 0.000000 |
PaintCorrectionShadows2012 (5) | 0.376340 |
PaintCorrectionShadows2012 (9) | 0.182800 |
PaintCorrectionShadows2012 | 0.000000 |
PaintCorrectionSharpness | 0.000000 |
PaintCorrectionTemperature | 0.000000 |
PaintCorrectionTint | 0.000000 |
PaintCorrectionWhat | Correction |
ParametricDarks | -43 |
ParametricHighlights | 0 |
ParametricHighlightSplit | 75 |
ParametricLights | +11 |
ParametricMidtoneSplit | 50 |
ParametricShadows | +53 |
ParametricShadowSplit | 25 |
PerspectiveAspect | 0 |
PerspectiveHorizontal | 0 |
PerspectiveRotate | 0.0 |
PerspectiveScale | 100 |
PerspectiveUpright | 0 |
PerspectiveVertical | 0 |
PerspectiveX | 0.00 |
PerspectiveY | 0.00 |
PostCropVignetteAmount | -16 |
PostCropVignetteFeather | 50 |
PostCropVignetteHighlightContrast | 0 |
PostCropVignetteMidpoint | 55 |
PostCropVignetteRoundness | -46 |
PostCropVignetteStyle | 1 |
ProcessVersion | 11.0 |
ProfileDescription | sRGB IEC61966-2.1 |
RawFileName | A. Thingvoll_2019_00043-17.RAF |
RedHue | 0 |
RedSaturation | 0 |
ScaleFactor35efl | 1.5 |
SceneCaptureType | Standard |
SceneType | Directly photographed |
SensingMethod | One-chip color area |
SensitivityType | Standard Output Sensitivity |
SerialNumber | 64M51292 |
Shadows2012 | -5 |
ShadowTint | 0 |
SharpenDetail | 34 |
SharpenEdgeMasking | 80 |
SharpenRadius | +1.3 |
Sharpness (1) | 82 |
Sharpness | Normal |
ShutterSpeed | 1/125 |
ShutterSpeedValue | 1/125 |
Software | Adobe Photoshop Lightroom Classic 8.2 (Windows) |
SplitToningBalance | 0 |
SplitToningHighlightHue | 0 |
SplitToningHighlightSaturation | 0 |
SplitToningShadowHue | 0 |
SplitToningShadowSaturation | 0 |
Subject | 03, 0319, 50-200mm |
SubjectDistanceRange | Unknown |
Tint | +16 |
ToneCurve | 0, 0, 255, 255 |
ToneCurveBlue | 0, 0, 255, 255 |
ToneCurveGreen | 0, 0, 255, 255 |
ToneCurveName | Linear |
ToneCurveName2012 | Linear |
ToneCurvePV2012 | 0, 0, 255, 255 |
ToneCurvePV2012Blue | 0, 0, 255, 255 |
ToneCurvePV2012Green | 0, 0, 255, 255 |
ToneCurvePV2012Red | 0, 0, 255, 255 |
ToneCurveRed | 0, 0, 255, 255 |
ToneMapStrength | 0 |
Version | 11.2 |
VignetteAmount | 0 |
WhiteBalance (1) | As Shot |
WhiteBalance | Auto |
Whites2012 | +65 |