Felt | Verdi |
AlreadyApplied | True |
Aperture | 9.0 |
ApertureValue | 9.0 |
BitsPerSample | 8 |
BlueHue | 0 |
BlueSaturation | 0 |
Brightness | +50 |
CameraProfile | ACR 2.4 |
ChromaticAberrationB | 0 |
ChromaticAberrationR | 0 |
CircleOfConfusion | 0.019 mm |
Clarity | 0 |
ColorComponents | 3 |
ColorMode | RGB |
ColorNoiseReduction | 25 |
ColorSpace (1) | Unknown (-1) |
ColorSpace | Uncalibrated |
ColorTemperature | 4700 |
Contrast | +25 |
ConvertToGrayscale | False |
Copyright | Per R. Gustavsen |
CopyrightFlag | True |
CopyrightNotice | Per R. Gustavsen |
CreateDate (1) | 2007:09:15 10:09:15+02:00 |
CreateDate | 2007:08:26 13:35:05 |
Creator |
CreatorTool | Adobe Photoshop CS2 Windows |
CropAngle | 0 |
CropBottom | 0.586814 |
CropHeight | 1114 |
CropLeft | 0.221408 |
CropRight | 0.674486 |
CropTop | 0.10989 |
CropUnit | pixels |
CropWidth | 1588 |
CustomRendered | Normal |
DateTimeDigitized | 2007:08:26 13:35:05+02:00 |
DateTimeOriginal (1) | 2007:08:26 13:35:05+02:00 |
DateTimeOriginal | 2007:08:26 13:35:05 |
Defringe | 0 |
ExifImageHeight | 561 |
ExifImageWidth | 800 |
Exposure | 0.00 |
ExposureCompensation | -1/3 |
ExposureMode | Auto |
ExposureProgram | Aperture-priority AE |
ExposureTime | 1/400 |
FillLight | 0 |
Firmware | 2.0.3 |
Flash | Off, Did not fire |
FlashCompensation | 0 |
FlashFired | False |
FlashFunction | False |
FlashMode | Off |
FlashRedEyeMode | False |
FlashReturn | No return detection |
FNumber | 9.0 |
FocalLength | 240.0 mm |
FocalLength35efl | 240.0 mm (35 mm equivalent: 384.4 mm) |
Format | image/jpeg |
FOV | 5.4 deg |
GreenHue | 0 |
GreenSaturation | 0 |
HasCrop | True |
HasSettings | True |
HighlightRecovery | 0 |
HueAdjustmentAqua | 0 |
HueAdjustmentBlue | 0 |
HueAdjustmentGreen | 0 |
HueAdjustmentMagenta | 0 |
HueAdjustmentOrange | 0 |
HueAdjustmentPurple | 0 |
HueAdjustmentRed | 0 |
HueAdjustmentYellow | 0 |
HyperfocalDistance | 341.13 m |
ICCProfileName | Adobe RGB (1998) |
ImageHeight (1) | 1114 |
ImageHeight | 561 |
ImageNumber | 82 |
ImageSize | 800x561 |
ImageWidth (1) | 1588 |
ImageWidth | 800 |
ISO | 200 |
Keywords | Portogal |
Lens | 75.0-300.0 mm |
LensInfo | 75-300mm f/? |
LightValue | 14.0 |
LuminanceAdjustmentAqua | 0 |
LuminanceAdjustmentBlue | 0 |
LuminanceAdjustmentGreen | 0 |
LuminanceAdjustmentMagenta | 0 |
LuminanceAdjustmentOrange | 0 |
LuminanceAdjustmentPurple | 0 |
LuminanceAdjustmentRed | 0 |
LuminanceAdjustmentYellow | 0 |
LuminanceSmoothing | 0 |
Make | Canon |
Marked | True |
Megapixels | 0.449 |
MeteringMode | Average |
Model | Canon EOS 20D |
ModifyDate (1) | 2007:09:15 10:09:15+02:00 |
ModifyDate | 2007:09:15 10:09:15 |
Orientation | Horizontal (normal) |
OwnerName | Per R Gustavsen |
ParametricDarks | 0 |
ParametricHighlights | 0 |
ParametricHighlightSplit | 75 |
ParametricLights | 0 |
ParametricMidtoneSplit | 50 |
ParametricShadows | 0 |
ParametricShadowSplit | 25 |
ProfileDescription | Adobe RGB (1998) |
RedHue | 0 |
RedSaturation | 0 |
Rights | Per R. Gustavsen |
Saturation | 0 |
SaturationAdjustmentAqua | 0 |
SaturationAdjustmentBlue | 0 |
SaturationAdjustmentGreen | 0 |
SaturationAdjustmentMagenta | 0 |
SaturationAdjustmentOrange | 0 |
SaturationAdjustmentPurple | 0 |
SaturationAdjustmentRed | 0 |
SaturationAdjustmentYellow | 0 |
ScaleFactor35efl | 1.6 |
SceneCaptureType | Standard |
SerialNumber | 1530906712 |
Shadows | 11 |
ShadowTint | 0 |
SharpenDetail | 25 |
SharpenEdgeMasking | 0 |
SharpenRadius | +1.0 |
Sharpness | 25 |
ShutterSpeed | 1/400 |
ShutterSpeedValue | 1/400 |
Software | Adobe Photoshop CS2 Windows |
SplitToningBalance | 0 |
SplitToningHighlightHue | 0 |
SplitToningHighlightSaturation | 0 |
SplitToningShadowHue | 0 |
SplitToningShadowSaturation | 0 |
Subject | Portogal |
TimeZoneOffset | 2 2 |
Tint | +12 |
ToneCurve | 0, 0, 32, 22, 64, 56, 128, 128, 192, 196, 255, 255 |
ToneCurveName | Medium Contrast |
URL_List | |
Version | 1.0 |
Vibrance | +29 |
VignetteAmount | 0 |
WhiteBalance (2) | As Shot |
WhiteBalance | Auto |