Felt | Verdi |
2006-07-21T20:31:27+02:00 File G:\Edit pics 17\_DSC4980-Edit.psd saved
2006-07-28T19:45:34+02:00 File _DSC4980-Edit.psd opened
2006-07-28T19:48:33+02:00 File G:\edit pics 18\_DSC4980-Edit fotono .jpg saved
AlreadyApplied | True |
Aperture | 13.0 |
ApertureValue | 13.0 |
Artist | Kjetil Kvien Madsen |
BitsPerSample (1) | 16, 16, 16 |
BitsPerSample (2) | 16 16 16 |
BitsPerSample | 8 |
BlueHue | 0 |
BlueSaturation | 0 |
Brightness | +50 |
By-line | Kjetil Kvien Madsen |
CameraProfile | ACR 4.4 |
CFAPattern | [Red,Green][Green,Blue] |
ChromaticAberrationB | 0 |
ChromaticAberrationR | 0 |
CircleOfConfusion | 0.021 mm |
Clarity | 35 |
ColorComponents | 3 |
ColorMode | RGB |
ColorNoiseReduction | 0 |
ColorSpace | sRGB |
ColorTemperature | 5650 |
Contrast (2) | +34 |
Contrast | Normal |
ConvertToGrayscale | False |
Copyright | Kjetil Kvien Madsen |
CopyrightFlag | False |
CopyrightNotice | Kjetil Kvien Madsen |
CreateDate (1) | 2006:07:28 19:48:33+02:00 |
CreateDate | 2008:07:10 21:00:09 |
Creator | Kjetil Kvien Madsen |
CreatorAddress | Oppsalstubben 6 |
CreatorCity | Oslo |
CreatorCountry | Norway |
CreatorPostalCode | 0685 |
CreatorTool | Adobe Photoshop CS3 Windows |
CreatorWorkEmail | kjetilkm@online.no |
CreatorWorkTelephone | +47 95 24 10 87 |
CreatorWorkURL | www.kkm.smugmug.com |
CustomRendered | Normal |
DateTimeDigitized | 2008:07:10 21:00:09.08+02:00 |
DateTimeOriginal (1) | 2008:07:10 21:00:09.08+02:00 |
DateTimeOriginal | 2008:07:10 21:00:09 |
Defringe | 0 |
DigitalZoomRatio | 1 |
ExifImageHeight | 750 |
ExifImageWidth | 505 |
Exposure | 0.00 |
ExposureCompensation | -1/3 |
ExposureMode | Auto |
ExposureProgram | Aperture-priority AE |
ExposureTime | 1/4 |
FillLight | 0 |
Flash | No Flash |
FlashFired | False |
FlashFunction | False |
FlashMode | Unknown |
FlashRedEyeMode | False |
FlashReturn | No return detection |
FNumber | 13.0 |
FocalLength | 13.0 mm |
FocalLength35efl | 13.0 mm (35 mm equivalent: 19.0 mm) |
FocalLengthIn35mmFormat | 19 mm |
Format | image/jpeg |
FOV | 86.9 deg |
GainControl | None |
GreenHue | 0 |
GreenSaturation | 0 |
HasCrop | False |
HasSettings | True |
HierarchicalSubject | sommerferie 2008 reino emilie landskap valdres vang valdrsflya vinstra vinstervattn vinster båt foss |
HighlightRecovery | 13 |
HueAdjustmentAqua | 0 |
HueAdjustmentBlue | 0 |
HueAdjustmentGreen | 0 |
HueAdjustmentMagenta | 0 |
HueAdjustmentOrange | 0 |
HueAdjustmentPurple | 0 |
HueAdjustmentRed | 0 |
HueAdjustmentYellow | 0 |
HyperfocalDistance | 0.63 m |
ICCProfileName | sRGB IEC61966-2.1 |
ImageHeight (2) | 4288 |
ImageHeight | 750 |
ImageNumber | 5269 |
ImageSize | 505x750 |
ImageWidth (2) | 2848 |
ImageWidth | 505 |
ISO | 100 |
Keywords | sommerferie 2008 reino emilie landskap valdres vang valdrsflya v |
Label | Red |
Lens | 10.0-20.0 mm f/4.0-5.6 |
LensInfo | 10-20mm f/4-5.6 |
LightSource | Cloudy |
LightValue | 9.4 |
LuminanceAdjustmentAqua | -2 |
LuminanceAdjustmentBlue | -29 |
LuminanceAdjustmentGreen | 0 |
LuminanceAdjustmentMagenta | 0 |
LuminanceAdjustmentOrange | 0 |
LuminanceAdjustmentPurple | 0 |
LuminanceAdjustmentRed | 0 |
LuminanceAdjustmentYellow | 0 |
LuminanceSmoothing | 0 |
Make | NIKON CORPORATION |
MaxApertureValue | 4.6 |
Megapixels | 0.379 |
MeteringMode | Multi-segment |
Model | NIKON D300 |
ModifyDate (1) | 2006:07:28 19:48:33+02:00 |
ModifyDate | 2006:07:28 19:48:33 |
Orientation | Horizontal (normal) |
ParametricDarks | 0 |
ParametricHighlights | 0 |
ParametricHighlightSplit | 75 |
ParametricLights | 0 |
ParametricMidtoneSplit | 50 |
ParametricShadows | 0 |
ParametricShadowSplit | 25 |
PhotometricInterpretation | RGB |
PlanarConfiguration | Chunky |
ProfileDescription | sRGB IEC61966-2.1 |
RedHue | 0 |
RedSaturation | 0 |
Rights | Kjetil Kvien Madsen |
SamplesPerPixel | 3 |
Saturation (2) | 0 |
Saturation | Normal |
SaturationAdjustmentAqua | +1 |
SaturationAdjustmentBlue | +19 |
SaturationAdjustmentGreen | 0 |
SaturationAdjustmentMagenta | 0 |
SaturationAdjustmentOrange | 0 |
SaturationAdjustmentPurple | 0 |
SaturationAdjustmentRed | 0 |
SaturationAdjustmentYellow | 0 |
ScaleFactor35efl | 1.5 |
SceneCaptureType | Standard |
SceneType | Directly photographed |
SensingMethod | One-chip color area |
Shadows | 5 |
ShadowTint | 0 |
SharpenDetail | 0 |
SharpenEdgeMasking | 0 |
SharpenRadius | +0.5 |
Sharpness (2) | 0 |
Sharpness | Soft |
ShutterSpeed | 1/4 |
ShutterSpeedValue | 1/4 |
Software | Adobe Photoshop CS3 Windows |
SplitToningBalance | 0 |
SplitToningHighlightHue | 0 |
SplitToningHighlightSaturation | 0 |
SplitToningShadowHue | 0 |
SplitToningShadowSaturation | 0 |
Subject | sommerferie 2008 reino emilie landskap valdres vang valdrsflya vinstra vinstervattn vinster båt foss |
SubjectDistanceRange | Unknown |
Tint | -1 |
ToneCurve | 0, 0, 32, 22, 64, 56, 128, 128, 192, 196, 255, 255 |
ToneCurveName | Medium Contrast |
URL_List | |
UsageTerms | copyright Kjetil Kvien Madsen |
UserComment | COPYRIGHT Kjetil Kvien Madsen |
Version | 4.4.1 |
Vibrance | 0 |
VignetteAmount | 0 |
WhiteBalance (2) | As Shot |
WhiteBalance | Manual |