Felt | Verdi |
AlreadyApplied | True |
Aperture | 8.0 |
ApertureValue | 8.0 |
Artist | unknown |
BitsPerSample | 8 |
BlueHue | 0 |
BlueSaturation | 0 |
Brightness | -89 |
By-line | unknown |
CameraProfile | Adobe Standard |
ChromaticAberrationB | 0 |
ChromaticAberrationR | 0 |
CircleOfConfusion | 0.019 mm |
Clarity | +69 |
ColorComponents | 3 |
ColorNoiseReduction | 25 |
ColorTemperature | 16322 |
Contrast | +25 |
ConvertToGrayscale | False |
CreateDate (1) | 2009:12:31 12:08:43+01:00 |
CreateDate | 2009:12:31 12:08:43 |
Creator | unknown |
CreatorTool | Adobe Photoshop Lightroom |
CustomRendered | Normal |
DateTimeDigitized | 2009:12:31 12:08:43+01:00 |
DateTimeOriginal (1) | 2009:12:31 12:08:43+01:00 |
DateTimeOriginal | 2009:12:31 12:08:43 |
Defringe | 0 |
ExifImageHeight | 3888 |
ExifImageWidth | 2592 |
Exposure | +1.71 |
ExposureCompensation | 0 |
ExposureMode | Manual |
ExposureProgram | Manual |
ExposureTime | 1/10 |
FillLight | 60 |
Firmware | 1.0.4 |
Flash | On, Red-eye reduction |
FlashCompensation | 0 |
FlashFired | True |
FlashFunction | False |
FlashMode | On |
FlashRedEyeMode | True |
FlashReturn | No return detection |
FNumber | 8.0 |
FocalLength | 21.0 mm |
FocalLength35efl | 21.0 mm (35 mm equivalent: 34.0 mm) |
FOV | 55.8 deg |
GradientBasedCorrActive | true |
GradientBasedCorrAmount | 1.000000 |
GradientBasedCorrBrightness (1) | -0.525000 |
GradientBasedCorrBrightness | 0.250000 |
GradientBasedCorrClarity (1) | 0.950000 |
GradientBasedCorrClarity | 0.675000 |
GradientBasedCorrContrast (1) | 1.000000 |
GradientBasedCorrContrast | 0.550000 |
GradientBasedCorrExposure | 0.000000 |
GradientBasedCorrHue (1) | 194.000000 |
GradientBasedCorrHue | 178.000000 |
GradientBasedCorrMaskFullX (1) | 0.997748 |
GradientBasedCorrMaskFullX | -0.002252 |
GradientBasedCorrMaskFullY (1) | 0.375000 |
GradientBasedCorrMaskFullY | 0.631757 |
GradientBasedCorrMaskValue | 1.000000 |
GradientBasedCorrMaskWhat | Mask/Gradient |
GradientBasedCorrMaskZeroX (1) | 0.436937 |
GradientBasedCorrMaskZeroX | 0.738564 |
GradientBasedCorrMaskZeroY (1) | 0.412162 |
GradientBasedCorrMaskZeroY | 0.624373 |
GradientBasedCorrSaturation (1) | -1.000000 |
GradientBasedCorrSaturation (2) | 0.940000 |
GradientBasedCorrSaturation (3) | -0.575000 |
GradientBasedCorrSaturation | 1.000000 |
GradientBasedCorrSharpness (1) | -0.625000 |
GradientBasedCorrSharpness | 0.000000 |
GradientBasedCorrWhat | Correction |
GreenHue | 0 |
GreenSaturation | 0 |
HasCrop | False |
HasSettings | True |
HighlightRecovery | 79 |
HueAdjustmentAqua | 0 |
HueAdjustmentBlue | 0 |
HueAdjustmentGreen | 0 |
HueAdjustmentMagenta | 0 |
HueAdjustmentOrange | 0 |
HueAdjustmentPurple | 0 |
HueAdjustmentRed | -31 |
HueAdjustmentYellow | 0 |
HyperfocalDistance | 2.97 m |
ImageHeight | 3888 |
ImageNumber | 112 |
ImageSize | 2592x3888 |
ImageWidth | 2592 |
ISO | 200 |
Lens | EF-S18-55mm f/3.5-5.6 |
LensInfo | 18-55mm f/? |
LightValue | 8.3 |
LuminanceAdjustmentAqua | 0 |
LuminanceAdjustmentBlue | 0 |
LuminanceAdjustmentGreen | 0 |
LuminanceAdjustmentMagenta | 0 |
LuminanceAdjustmentOrange | +100 |
LuminanceAdjustmentPurple | 0 |
LuminanceAdjustmentRed | +14 |
LuminanceAdjustmentYellow | 0 |
LuminanceSmoothing | 0 |
Make | Canon |
MaxApertureValue | 3.5 |
Megapixels | 10.1 |
MeteringMode | Partial |
Model | Canon EOS 400D DIGITAL |
ModifyDate (1) | 2010:01:01 15:56:38+01:00 |
ModifyDate | 2010:01:01 15:56:38 |
OwnerName | unknown |
ParametricDarks | 0 |
ParametricHighlights | 0 |
ParametricHighlightSplit | 75 |
ParametricLights | 0 |
ParametricMidtoneSplit | 50 |
ParametricShadows | 0 |
ParametricShadowSplit | 25 |
PostCropVignetteAmount | 0 |
ProfileDescription | sRGB IEC61966-2.1 |
RedHue | 0 |
RedSaturation | 0 |
Saturation | 0 |
SaturationAdjustmentAqua | 0 |
SaturationAdjustmentBlue | 0 |
SaturationAdjustmentGreen | 0 |
SaturationAdjustmentMagenta | 0 |
SaturationAdjustmentOrange | +43 |
SaturationAdjustmentPurple | 0 |
SaturationAdjustmentRed | +48 |
SaturationAdjustmentYellow | 0 |
ScaleFactor35efl | 1.6 |
SceneCaptureType | Standard |
SerialNumber | 730386226 |
Shadows | 68 |
ShadowTint | 0 |
SharpenDetail | 25 |
SharpenEdgeMasking | 0 |
SharpenRadius | +1.0 |
Sharpness | 25 |
ShutterSpeed | 1/10 |
ShutterSpeedValue | 1/10 |
SplitToningBalance | 0 |
SplitToningHighlightHue | 0 |
SplitToningHighlightSaturation | 0 |
SplitToningShadowHue | 0 |
SplitToningShadowSaturation | 0 |
Tint | +8 |
ToneCurve | 0, 0, 32, 22, 64, 56, 128, 128, 192, 196, 255, 255 |
ToneCurveName | Medium Contrast |
Version | 5.2 |
Vibrance | 0 |
VignetteAmount | 0 |
WhiteBalance (2) | Custom |
WhiteBalance | Manual |