Felt | Verdi |
AlreadyApplied | True |
Aperture | 4.5 |
ApertureValue | 4.5 |
BitsPerSample | 8 |
BlueHue | 0 |
BlueSaturation | 0 |
Brightness | 0 |
CameraProfile | Embedded |
ChromaticAberrationB | 0 |
ChromaticAberrationR | 0 |
CircleOfConfusion | 0.019 mm |
Clarity | +57 |
ColorComponents | 3 |
ColorMode | RGB |
ColorNoiseReduction | 0 |
ColorSpace | Uncalibrated |
Contrast | +11 |
ConvertToGrayscale | False |
CreateDate (1) | 2010:03:23 14:19:44.76+01:00 |
CreateDate | 2010:03:23 14:19:44 |
CropAngle | 0 |
CropBottom | 0.967593 |
CropHeight | 3 |
CropLeft | 0.07716 |
CropRight | 0.990741 |
CropTop | 0.054012 |
CropUnit | Unknown (3) |
CropWidth | 2 |
CustomRendered | Normal |
DateTimeDigitized | 2010:03:23 14:19:44.76+01:00 |
DateTimeOriginal (1) | 2010:03:23 14:19:44.76+01:00 |
DateTimeOriginal | 2010:03:23 14:19:44 |
Defringe | 0 |
ExifImageHeight | 2368 |
ExifImageWidth | 3552 |
Exposure | +0.10 |
ExposureCompensation | 0 |
ExposureMode | Auto |
ExposureProgram | Program AE |
ExposureTime | 1/200 |
FillLight | 0 |
Firmware | 1.0.5 |
Flash | No Flash |
FlashCompensation | 0 |
FlashFired | False |
FlashFunction | False |
FlashMode | Unknown |
FlashRedEyeMode | False |
FlashReturn | No return detection |
FNumber | 4.5 |
FocalLength | 200.0 mm |
FocalLength35efl | 200.0 mm (35 mm equivalent: 323.8 mm) |
Format | image/jpeg |
FOV | 6.4 deg |
GreenHue | 0 |
GreenSaturation | 0 |
HasCrop | True |
HasSettings | True |
HighlightRecovery | 17 |
HueAdjustmentAqua | 0 |
HueAdjustmentBlue | 0 |
HueAdjustmentGreen | 0 |
HueAdjustmentMagenta | 0 |
HueAdjustmentOrange | 0 |
HueAdjustmentPurple | 0 |
HueAdjustmentRed | 0 |
HueAdjustmentYellow | 0 |
HyperfocalDistance | 478.91 m |
ICCProfileName | Adobe RGB (1998) |
ImageHeight | 2368 |
ImageNumber | 0 |
ImageSize | 3552x2368 |
ImageWidth | 3552 |
IncrementalTemperature | +9 |
IncrementalTint | 0 |
ISO | 250 |
Lens | EF70-200mm f/4L IS USM |
LensInfo | 70-200mm f/? |
LightValue | 10.7 |
LuminanceAdjustmentAqua | 0 |
LuminanceAdjustmentBlue | 0 |
LuminanceAdjustmentGreen | 0 |
LuminanceAdjustmentMagenta | 0 |
LuminanceAdjustmentOrange | 0 |
LuminanceAdjustmentPurple | 0 |
LuminanceAdjustmentRed | 0 |
LuminanceAdjustmentYellow | 0 |
LuminanceSmoothing | 0 |
Make | Canon |
MaxApertureValue | 4.0 |
Megapixels | 8.4 |
MeteringMode | Multi-segment |
Model | Canon EOS 40D |
ModifyDate (1) | 2010:04:23 23:52:28+02:00 |
ModifyDate | 2010:04:23 23:52:28 |
Orientation | Horizontal (normal) |
ParametricDarks | 0 |
ParametricHighlights | 0 |
ParametricHighlightSplit | 75 |
ParametricLights | 0 |
ParametricMidtoneSplit | 50 |
ParametricShadows | 0 |
ParametricShadowSplit | 25 |
PostCropVignetteAmount | -26 |
PostCropVignetteFeather | 50 |
PostCropVignetteMidpoint | 50 |
PostCropVignetteRoundness | 0 |
ProfileDescription | Adobe RGB (1998) |
Rating | 0 |
RawFileName | England_0782.JPG |
RedHue | 0 |
RedSaturation | 0 |
Saturation | +3 |
SaturationAdjustmentAqua | 0 |
SaturationAdjustmentBlue | 0 |
SaturationAdjustmentGreen | 0 |
SaturationAdjustmentMagenta | 0 |
SaturationAdjustmentOrange | 0 |
SaturationAdjustmentPurple | 0 |
SaturationAdjustmentRed | 0 |
SaturationAdjustmentYellow | 0 |
ScaleFactor35efl | 1.6 |
SceneCaptureType | Standard |
SerialNumber | 1010509299 |
Shadows | 5 |
ShadowTint | 0 |
SharpenDetail | 25 |
SharpenEdgeMasking | 0 |
SharpenRadius | +1.0 |
Sharpness | 0 |
ShutterSpeed | 1/200 |
ShutterSpeedValue | 1/200 |
Software | Adobe Photoshop CS4 Macintosh |
SplitToningBalance | 0 |
SplitToningHighlightHue | 0 |
SplitToningHighlightSaturation | 0 |
SplitToningShadowHue | 0 |
SplitToningShadowSaturation | 0 |
ToneCurve | 0, 0, 255, 255 |
ToneCurveName | Linear |
URL_List | |
Version | 5.0 |
Vibrance | +13 |
VignetteAmount | -3 |
VignetteMidpoint | 50 |
WhiteBalance (2) | Custom |
WhiteBalance | Auto |