Felt | Verdi |
AlreadyApplied | True |
Aperture | 14.0 |
ApertureValue | 14.0 |
BitsPerSample | 8 |
BlueHue | 0 |
BlueSaturation | 0 |
Brightness | +20 |
CameraProfile | Embedded |
ChromaticAberrationB | 0 |
ChromaticAberrationR | 0 |
CircleOfConfusion | 0.010 mm |
Clarity | +84 |
ColorComponents | 1 |
ColorMode | RGB |
ColorNoiseReduction | 0 |
ColorSpace | sRGB |
Contrast | -1 |
ConvertToGrayscale | True |
CopyrightFlag | False |
CreateDate (1) | 2010:12:19 23:14:29+01:00 |
CreateDate | 2008:06:30 23:03:23 |
CreatorTool | Adobe Photoshop CS3 Macintosh |
CropAngle | 0.151479 |
CropBottom | 1 |
CropConstrainToWarp | 0 |
CropHeight | 2894 |
CropLeft | 0.002856 |
CropRight | 0.997144 |
CropTop | 0 |
CropUnit | pixels |
CropWidth | 4355 |
CustomRendered | Normal |
DateTimeDigitized | 2008:06:30 23:03:23+02:00 |
DateTimeOriginal (1) | 2008:06:30 23:03:23+02:00 |
DateTimeOriginal | 2008:06:30 23:03:23 |
Defringe | 0 |
ExifImageHeight | 1200 |
ExifImageWidth | 1200 |
Exposure | -0.25 |
ExposureCompensation | +1/3 |
ExposureMode | Auto |
ExposureProgram | Aperture-priority AE |
ExposureTime | 30 |
FillLight | 25 |
Flash | Off, Did not fire |
FlashFired | False |
FlashFunction | False |
FlashMode | Off |
FlashRedEyeMode | False |
FlashReturn | No return detection |
FNumber | 14.0 |
FocalLength | 35.0 mm |
FocalLength35efl | 35.0 mm (35 mm equivalent: 108.5 mm) |
Format | image/jpeg |
FOV | 18.8 deg |
GrainAmount | 0 |
GrayMixerAqua | -12 |
GrayMixerBlue | +23 |
GrayMixerGreen | -29 |
GrayMixerMagenta | +5 |
GrayMixerOrange | -23 |
GrayMixerPurple | +24 |
GrayMixerRed | -13 |
GrayMixerYellow | -28 |
GreenHue | 0 |
GreenSaturation | 0 |
HasCrop | True |
HasSettings | True |
HighlightRecovery | 0 |
HyperfocalDistance | 9.03 m |
ICCProfileName | sRGB IEC61966-2.1 |
ImageHeight (1) | 2894 |
ImageHeight | 1200 |
ImageSize | 1200x1200 |
ImageWidth (1) | 4355 |
ImageWidth | 1200 |
IncrementalTemperature | -11 |
IncrementalTint | 0 |
ISO | 100 |
LensManualDistortionAmount | 0 |
LensProfileEnable | 0 |
LensProfileSetup | LensDefaults |
LightValue | 2.7 |
LuminanceSmoothing | 0 |
Make | Canon |
Megapixels | 1.4 |
MeteringMode | Unknown |
Model | Canon EOS 5D |
ModifyDate (1) | 2010:12:19 23:14:29+01:00 |
ModifyDate | 2010:12:19 23:14:29 |
Orientation | Horizontal (normal) |
ParametricDarks | -45 |
ParametricHighlights | +78 |
ParametricHighlightSplit | 75 |
ParametricLights | -29 |
ParametricMidtoneSplit | 50 |
ParametricShadows | 0 |
ParametricShadowSplit | 25 |
PerspectiveHorizontal | 0 |
PerspectiveRotate | 0.0 |
PerspectiveScale | 100 |
PerspectiveVertical | 0 |
PostCropVignetteAmount | 0 |
ProcessVersion | 5.7 |
ProfileDescription | sRGB IEC61966-2.1 |
RedHue | 0 |
RedSaturation | 0 |
ScaleFactor35efl | 3.1 |
SceneCaptureType | Standard |
SensitivityType | Unknown |
Shadows | 0 |
ShadowTint | 0 |
SharpenDetail | 25 |
SharpenEdgeMasking | 0 |
SharpenRadius | +1.0 |
Sharpness | 0 |
ShutterSpeed | 30 |
ShutterSpeedValue | 30 |
Software | Adobe Photoshop CS3 Macintosh |
SplitToningBalance | 0 |
SplitToningHighlightHue | 0 |
SplitToningHighlightSaturation | 0 |
SplitToningShadowHue | 0 |
SplitToningShadowSaturation | 0 |
ToneCurve | 0, 0, 255, 255 |
ToneCurveName | Linear |
URL_List | |
Version | 6.3 |
VignetteAmount | 0 |
WhiteBalance (2) | Custom |
WhiteBalance | Auto |