Felt | Verdi |
AlreadyApplied | True |
Aperture | 5.0 |
ApertureValue | 5.0 |
Artist | DUY ANH PHAM |
BitsPerSample (1) | 8 8 8 |
BitsPerSample | 8 |
BlueHue | 0 |
BlueSaturation | 0 |
Brightness | +23 |
By-line | DUY ANH PHAM |
CameraProfile | Adobe Standard |
CFAPattern | [Red,Green][Green,Blue] |
ChromaticAberrationB | 0 |
ChromaticAberrationR | 0 |
CircleOfConfusion | 0.030 mm |
Clarity | +10 |
ColorComponents | 3 |
ColorMode | RGB |
ColorNoiseReduction | 25 |
ColorNoiseReductionDetail | 50 |
ColorSpace | Uncalibrated |
ColorTemperature | 5500 |
Contrast (1) | +36 |
Contrast | Normal |
ConvertToGrayscale | False |
Copyright | dapham1969@gmail.com |
CopyrightNotice | dapham1969@gmail.com |
CreateDate (1) | 2012:09:23 14:12:46.78+02:00 |
CreateDate | 2012:09:23 14:12:46 |
Creator | DUY ANH PHAM |
CreatorTool | Ver.1.01 |
CropAngle | 0 |
CropBottom | 1 |
CropLeft | 0.111816 |
CropRight | 0.939336 |
CropTop | 0.137293 |
CustomRendered | Normal |
DateCreated (1) | 2012:09:23 |
DateCreated | 2012:09:23 14:12:46.078 |
DateTimeOriginal | 2012:09:23 14:12:46 |
Defringe | 0 |
DigitalZoomRatio | 1 |
DOF | 0.20 m (9.90 - 10.10 m) |
ExifImageHeight | 700 |
ExifImageWidth | 1024 |
Exposure | -0.15 |
ExposureCompensation | 0 |
ExposureMode | Manual |
ExposureProgram | Manual |
ExposureTime | 1/1600 |
FillLight | 0 |
Flash | No Flash |
FNumber | 5.0 |
FocalLength | 380.0 mm |
FocalLength35efl | 380.0 mm (35 mm equivalent: 380.0 mm) |
FocalLengthIn35mmFormat | 380 mm |
Format | image/jpeg |
FOV | 5.4 deg |
GainControl | High gain up |
GrainAmount | 0 |
GreenHue | 0 |
GreenSaturation | 0 |
HasCrop | True |
HasSettings | True |
HighlightRecovery | 0 |
HueAdjustmentAqua | 0 |
HueAdjustmentBlue | 0 |
HueAdjustmentGreen | 0 |
HueAdjustmentMagenta | 0 |
HueAdjustmentOrange | 0 |
HueAdjustmentPurple | 0 |
HueAdjustmentRed | 0 |
HueAdjustmentYellow | 0 |
HyperfocalDistance | 961.18 m |
ICCProfileName | Adobe RGB (1998) |
ImageHeight (1) | 1176 |
ImageHeight | 700 |
ImageNumber | 20884 |
ImageSize | 1024x700 |
ImageWidth (1) | 1695 |
ImageWidth | 1024 |
ISO | 1600 |
Lens | 200.0-400.0 mm f/4.0 |
LensID (1) | 168 |
LensID | AF-S Zoom-Nikkor 200-400mm f/4G IF-ED VR II |
LensInfo | 200-400mm f/4 |
LightSource | Unknown |
LightValue | 11.3 |
LuminanceAdjustmentAqua | 0 |
LuminanceAdjustmentBlue | 0 |
LuminanceAdjustmentGreen | 0 |
LuminanceAdjustmentMagenta | 0 |
LuminanceAdjustmentOrange | 0 |
LuminanceAdjustmentPurple | 0 |
LuminanceAdjustmentRed | 0 |
LuminanceAdjustmentYellow | 0 |
LuminanceSmoothing | 0 |
Make | NIKON CORPORATION |
MaxApertureValue | 4.0 |
Megapixels | 0.717 |
MeteringMode | Multi-segment |
Model | NIKON D3S |
ModifyDate (1) | 2012:10:02 20:19:25+02:00 |
ModifyDate | 2012:10:02 20:19:25 |
Orientation | Horizontal (normal) |
ParametricDarks | +31 |
ParametricHighlights | 0 |
ParametricHighlightSplit | 75 |
ParametricLights | -23 |
ParametricMidtoneSplit | 50 |
ParametricShadows | 0 |
ParametricShadowSplit | 25 |
PhotometricInterpretation | RGB |
PostCropVignetteAmount | 0 |
ProcessVersion | 5.7 |
ProfileDescription | Adobe RGB (1998) |
Rating | 0 |
RawFileName | DSC_0749.NEF |
RedHue | 0 |
RedSaturation | 0 |
Rights | dapham1969@gmail.com |
Saturation (1) | 0 |
Saturation | Normal |
SaturationAdjustmentAqua | 0 |
SaturationAdjustmentBlue | 0 |
SaturationAdjustmentGreen | 0 |
SaturationAdjustmentMagenta | 0 |
SaturationAdjustmentOrange | 0 |
SaturationAdjustmentPurple | 0 |
SaturationAdjustmentRed | 0 |
SaturationAdjustmentYellow | 0 |
ScaleFactor35efl | 1.0 |
SceneCaptureType | Standard |
SceneType | Directly photographed |
SensingMethod | One-chip color area |
SerialNumber | 2031877 |
Shadows | 5 |
ShadowTint | 0 |
SharpenDetail | 25 |
SharpenEdgeMasking | 0 |
SharpenRadius | +1.0 |
Sharpness (1) | 87 |
Sharpness | Normal |
ShutterSpeed | 1/1600 |
ShutterSpeedValue | 1/1600 |
Software | Adobe Photoshop CS5 Macintosh |
SplitToningBalance | 0 |
SplitToningHighlightHue | 0 |
SplitToningHighlightSaturation | 0 |
SplitToningShadowHue | 0 |
SplitToningShadowSaturation | 0 |
SubjectDistance | 10 m |
SubjectDistanceRange | Unknown |
Tint | +10 |
ToneCurve | 0, 0, 32, 22, 64, 56, 128, 128, 192, 196, 255, 255 |
ToneCurveName | Medium Contrast |
URL_List | |
Version | 6.0 |
Vibrance | 0 |
VignetteAmount | 0 |
WhiteBalance (1) | Daylight |
WhiteBalance | Auto |